BEGIN:VCALENDAR
VERSION:2.0
PRODID:icalendar-ruby
CALSCALE:GREGORIAN
METHOD:PUBLISH
BEGIN:VEVENT
DTSTAMP:20260424T220836Z
UID:9-279502@recboise.com
DTSTART:20261101T170000Z
DTEND:20261101T183000Z
CLASS:PUBLIC
CREATED:20260424T145950
DESCRIPTION:
LAST-MODIFIED:20260424T145950
LOCATION:
SUMMARY:Sunday Worship
URL;VALUE=URI:https://recboise.com/events/sunday-worship/2026-11-01
ATTACH;FILENAME=We-Moved-1.jpg;FMTTYPE=image/jpeg:https://dq5pwpg1q8ru0.clo
 udfront.net/2026/03/30/00/29/03/10daf4c6-1cda-490a-8947-a10582453fad/We-Mo
 ved-1.jpg
END:VEVENT
END:VCALENDAR
