BEGIN:VCALENDAR
VERSION:2.0
PRODID:icalendar-ruby
CALSCALE:GREGORIAN
METHOD:PUBLISH
BEGIN:VEVENT
DTSTAMP:20260424T202123Z
UID:9-279345@recboise.com
DTSTART:20261025T160000Z
DTEND:20261025T173000Z
CLASS:PUBLIC
CREATED:20260424T121211
DESCRIPTION:
LAST-MODIFIED:20260424T121211
LOCATION:
SUMMARY:Sunday Worship
URL;VALUE=URI:https://recboise.com/events/sunday-worship/2026-10-25
ATTACH;FILENAME=We-Moved-1.jpg;FMTTYPE=image/jpeg:https://dq5pwpg1q8ru0.clo
 udfront.net/2026/03/30/00/29/03/10daf4c6-1cda-490a-8947-a10582453fad/We-Mo
 ved-1.jpg
END:VEVENT
END:VCALENDAR
