BEGIN:VCALENDAR
VERSION:2.0
PRODID:icalendar-ruby
CALSCALE:GREGORIAN
METHOD:PUBLISH
BEGIN:VEVENT
DTSTAMP:20260425T025847Z
UID:14-279894@recboise.com
DTSTART:20261029T010000Z
DTEND:20261029T023000Z
CLASS:PUBLIC
CREATED:20260424T203718
DESCRIPTION:
LAST-MODIFIED:20260424T203718
LOCATION:
SUMMARY:REC YTH
URL;VALUE=URI:https://recboise.com/events/rec-yth/2026-10-28
END:VEVENT
END:VCALENDAR
