BEGIN:VCALENDAR
VERSION:2.0
PRODID:icalendar-ruby
CALSCALE:GREGORIAN
METHOD:PUBLISH
BEGIN:VEVENT
DTSTAMP:20260425T011155Z
UID:14-279737@recboise.com
DTSTART:20261022T010000Z
DTEND:20261022T023000Z
CLASS:PUBLIC
CREATED:20260424T174742
DESCRIPTION:
LAST-MODIFIED:20260424T174742
LOCATION:
SUMMARY:REC YTH
URL;VALUE=URI:https://recboise.com/events/rec-yth/2026-10-21
END:VEVENT
END:VCALENDAR
