BEGIN:VCALENDAR
VERSION:2.0
PRODID:icalendar-ruby
CALSCALE:GREGORIAN
METHOD:PUBLISH
BEGIN:VEVENT
DTSTAMP:20260424T233120Z
UID:14-279580@recboise.com
DTSTART:20261015T010000Z
DTEND:20261015T023000Z
CLASS:PUBLIC
CREATED:20260424T145950
DESCRIPTION:
LAST-MODIFIED:20260424T145950
LOCATION:
SUMMARY:REC YTH
URL;VALUE=URI:https://recboise.com/events/rec-yth/2026-10-14
END:VEVENT
END:VCALENDAR
